BEGIN:VCALENDAR
VERSION:2.0
PRODID:-//Greenway Park Golf Course - ECPv6.15.18//NONSGML v1.0//EN
CALSCALE:GREGORIAN
METHOD:PUBLISH
X-WR-CALNAME:Greenway Park Golf Course
X-ORIGINAL-URL:https://www.gwphoa.org
X-WR-CALDESC:Events for Greenway Park Golf Course
REFRESH-INTERVAL;VALUE=DURATION:PT1H
X-Robots-Tag:noindex
X-PUBLISHED-TTL:PT1H
BEGIN:VTIMEZONE
TZID:UTC
BEGIN:STANDARD
TZOFFSETFROM:+0000
TZOFFSETTO:+0000
TZNAME:UTC
DTSTART:20250101T000000
END:STANDARD
END:VTIMEZONE
BEGIN:VEVENT
DTSTART;TZID=UTC:20260422T160000
DTEND;TZID=UTC:20260422T180000
DTSTAMP:20260423T064725
CREATED:20260410T205057Z
LAST-MODIFIED:20260410T205057Z
UID:10000675-1776873600-1776880800@www.gwphoa.org
SUMMARY:Ladies Links & Lagers Leagues
DESCRIPTION:The Course will be closed to the public during this event
URL:https://www.gwphoa.org/event/ladies-links-lagers-leagues/2026-04-22/
LOCATION:Greenway Park Golf Course\, 110 Greenway Drive\, Broomfield\, CO\, 80020\, United States
CATEGORIES:Golf Leagues
ORGANIZER;CN="Pappy Schenck":MAILTO:gwppappy@gmail.com
END:VEVENT
BEGIN:VEVENT
DTSTART;TZID=UTC:20260421T160000
DTEND;TZID=UTC:20260421T180000
DTSTAMP:20260423T064725
CREATED:20260410T203749Z
LAST-MODIFIED:20260410T203749Z
UID:10000078-1776787200-1776794400@www.gwphoa.org
SUMMARY:Spark Golf Leagues
DESCRIPTION:
URL:https://www.gwphoa.org/event/spark-golf-leagues/2026-04-21/
LOCATION:Greenway Park Golf Course\, 110 Greenway Drive\, Broomfield\, CO\, 80020\, United States
CATEGORIES:Golf Leagues
ORGANIZER;CN="Pappy Schenck":MAILTO:gwppappy@gmail.com
END:VEVENT
BEGIN:VEVENT
DTSTART;TZID=UTC:20260420T160000
DTEND;TZID=UTC:20260420T180000
DTSTAMP:20260423T064725
CREATED:20260410T195922Z
LAST-MODIFIED:20260410T195922Z
UID:10000004-1776700800-1776708000@www.gwphoa.org
SUMMARY:Clubhouse Reserved - Monday Ladies League Meeting
DESCRIPTION:Monday Ladies League Meeting in the Clubhouse
URL:https://www.gwphoa.org/event/clubhouse-reserved-monday-ladies-league-meeting/
LOCATION:Greenway Park Golf Course\, 110 Greenway Drive\, Broomfield\, CO\, 80020\, United States
CATEGORIES:Clubhouse Rented
ORGANIZER;CN="Julie Herring":MAILTO:juliehgwphoa@gmail.com
END:VEVENT
BEGIN:VEVENT
DTSTART;TZID=UTC:20260416T140000
DTEND;TZID=UTC:20260416T170000
DTSTAMP:20260423T064725
CREATED:20260410T023202Z
LAST-MODIFIED:20260410T023202Z
UID:10000003-1776348000-1776358800@www.gwphoa.org
SUMMARY:Golf Tournament
DESCRIPTION:Golf Course will be closed to the public during this event.
URL:https://www.gwphoa.org/event/golf-tournament-2/
LOCATION:Greenway Park Golf Course\, 110 Greenway Drive\, Broomfield\, CO\, 80020\, United States
CATEGORIES:Golf Tournament
ORGANIZER;CN="Pappy Schenck":MAILTO:gwppappy@gmail.com
END:VEVENT
BEGIN:VEVENT
DTSTART;TZID=UTC:20260415T160000
DTEND;TZID=UTC:20260415T180000
DTSTAMP:20260423T064725
CREATED:20260410T205057Z
LAST-MODIFIED:20260410T205057Z
UID:10000674-1776268800-1776276000@www.gwphoa.org
SUMMARY:Ladies Links & Lagers Leagues
DESCRIPTION:The Course will be closed to the public during this event
URL:https://www.gwphoa.org/event/ladies-links-lagers-leagues/2026-04-15/
LOCATION:Greenway Park Golf Course\, 110 Greenway Drive\, Broomfield\, CO\, 80020\, United States
CATEGORIES:Golf Leagues
ORGANIZER;CN="Pappy Schenck":MAILTO:gwppappy@gmail.com
END:VEVENT
BEGIN:VEVENT
DTSTART;TZID=UTC:20260414T160000
DTEND;TZID=UTC:20260414T180000
DTSTAMP:20260423T064725
CREATED:20260410T203749Z
LAST-MODIFIED:20260410T203749Z
UID:10000077-1776182400-1776189600@www.gwphoa.org
SUMMARY:Spark Golf Leagues
DESCRIPTION:
URL:https://www.gwphoa.org/event/spark-golf-leagues/2026-04-14/
LOCATION:Greenway Park Golf Course\, 110 Greenway Drive\, Broomfield\, CO\, 80020\, United States
CATEGORIES:Golf Leagues
ORGANIZER;CN="Pappy Schenck":MAILTO:gwppappy@gmail.com
END:VEVENT
BEGIN:VEVENT
DTSTART;TZID=UTC:20260413T070000
DTEND;TZID=UTC:20260413T120000
DTSTAMP:20260423T064725
CREATED:20260410T211339Z
LAST-MODIFIED:20260410T211339Z
UID:10000797-1776063600-1776081600@www.gwphoa.org
SUMMARY:Golf Tournament
DESCRIPTION:Golf Course will be closed to the public during this event.
URL:https://www.gwphoa.org/event/golf-tournament/
LOCATION:Greenway Park Golf Course\, 110 Greenway Drive\, Broomfield\, CO\, 80020\, United States
CATEGORIES:Golf Tournament
ORGANIZER;CN="Pappy Schenck":MAILTO:gwppappy@gmail.com
END:VEVENT
BEGIN:VEVENT
DTSTART;TZID=UTC:20260411T120000
DTEND;TZID=UTC:20260411T180000
DTSTAMP:20260423T064725
CREATED:20260410T020835Z
LAST-MODIFIED:20260410T020835Z
UID:10000002-1775908800-1775930400@www.gwphoa.org
SUMMARY:Clubhouse Reserved
DESCRIPTION:
URL:https://www.gwphoa.org/event/clubhouse-reserved/
LOCATION:Greenway Park Golf Course\, 110 Greenway Drive\, Broomfield\, CO\, 80020\, United States
CATEGORIES:Clubhouse Rented
END:VEVENT
BEGIN:VEVENT
DTSTART;TZID=UTC:20260408T120000
DTEND;TZID=UTC:20260408T140000
DTSTAMP:20260423T064725
CREATED:20260410T202252Z
LAST-MODIFIED:20260410T204835Z
UID:10000588-1775649600-1775656800@www.gwphoa.org
SUMMARY:HOA Board Meeting - Clubhouse Reserved
DESCRIPTION:Meeting will be held in the Clubhouse
URL:https://www.gwphoa.org/event/hoa-board-meeting-clubhouse-reserved-5/2026-04-08/
LOCATION:Greenway Park Golf Course\, 110 Greenway Drive\, Broomfield\, CO\, 80020\, United States
CATEGORIES:HOA Board Meeting
END:VEVENT
END:VCALENDAR