BEGIN:VCALENDAR
VERSION:2.0
PRODID:-//Greenway Park Golf Course - ECPv6.15.18//NONSGML v1.0//EN
CALSCALE:GREGORIAN
METHOD:PUBLISH
X-WR-CALNAME:Greenway Park Golf Course
X-ORIGINAL-URL:https://www.gwphoa.org
X-WR-CALDESC:Events for Greenway Park Golf Course
REFRESH-INTERVAL;VALUE=DURATION:PT1H
X-Robots-Tag:noindex
X-PUBLISHED-TTL:PT1H
BEGIN:VTIMEZONE
TZID:UTC
BEGIN:STANDARD
TZOFFSETFROM:+0000
TZOFFSETTO:+0000
TZNAME:UTC
DTSTART:20250101T000000
END:STANDARD
END:VTIMEZONE
BEGIN:VEVENT
DTSTART;TZID=UTC:20260428T160000
DTEND;TZID=UTC:20260428T180000
DTSTAMP:20260423T065000
CREATED:20260410T203749Z
LAST-MODIFIED:20260410T203749Z
UID:10000079-1777392000-1777399200@www.gwphoa.org
SUMMARY:Spark Golf Leagues
DESCRIPTION:
URL:https://www.gwphoa.org/event/spark-golf-leagues/2026-04-28/
LOCATION:Greenway Park Golf Course\, 110 Greenway Drive\, Broomfield\, CO\, 80020\, United States
CATEGORIES:Golf Leagues
ORGANIZER;CN="Pappy Schenck":MAILTO:gwppappy@gmail.com
END:VEVENT
BEGIN:VEVENT
DTSTART;TZID=UTC:20260429T160000
DTEND;TZID=UTC:20260429T180000
DTSTAMP:20260423T065000
CREATED:20260410T205057Z
LAST-MODIFIED:20260410T205057Z
UID:10000676-1777478400-1777485600@www.gwphoa.org
SUMMARY:Ladies Links & Lagers Leagues
DESCRIPTION:The Course will be closed to the public during this event
URL:https://www.gwphoa.org/event/ladies-links-lagers-leagues/2026-04-29/
LOCATION:Greenway Park Golf Course\, 110 Greenway Drive\, Broomfield\, CO\, 80020\, United States
CATEGORIES:Golf Leagues
ORGANIZER;CN="Pappy Schenck":MAILTO:gwppappy@gmail.com
END:VEVENT
BEGIN:VEVENT
DTSTART;TZID=UTC:20260505T070000
DTEND;TZID=UTC:20260505T123000
DTSTAMP:20260423T065000
CREATED:20260410T204632Z
LAST-MODIFIED:20260410T204632Z
UID:10000519-1777964400-1777984200@www.gwphoa.org
SUMMARY:Tuesday Senior Leagues
DESCRIPTION:Golf Course will be closed to the public during this event
URL:https://www.gwphoa.org/event/tuesday-senior-leagues-2/2026-05-05/
LOCATION:Greenway Park Golf Course\, 110 Greenway Drive\, Broomfield\, CO\, 80020\, United States
CATEGORIES:Golf Leagues
ORGANIZER;CN="Pappy Schenck":MAILTO:gwppappy@gmail.com
END:VEVENT
BEGIN:VEVENT
DTSTART;TZID=UTC:20260505T160000
DTEND;TZID=UTC:20260505T180000
DTSTAMP:20260423T065000
CREATED:20260410T203749Z
LAST-MODIFIED:20260410T203749Z
UID:10000080-1777996800-1778004000@www.gwphoa.org
SUMMARY:Spark Golf Leagues
DESCRIPTION:
URL:https://www.gwphoa.org/event/spark-golf-leagues/2026-05-05/
LOCATION:Greenway Park Golf Course\, 110 Greenway Drive\, Broomfield\, CO\, 80020\, United States
CATEGORIES:Golf Leagues
ORGANIZER;CN="Pappy Schenck":MAILTO:gwppappy@gmail.com
END:VEVENT
BEGIN:VEVENT
DTSTART;TZID=UTC:20260506T160000
DTEND;TZID=UTC:20260506T180000
DTSTAMP:20260423T065000
CREATED:20260410T205057Z
LAST-MODIFIED:20260410T205057Z
UID:10000677-1778083200-1778090400@www.gwphoa.org
SUMMARY:Ladies Links & Lagers Leagues
DESCRIPTION:The Course will be closed to the public during this event
URL:https://www.gwphoa.org/event/ladies-links-lagers-leagues/2026-05-06/
LOCATION:Greenway Park Golf Course\, 110 Greenway Drive\, Broomfield\, CO\, 80020\, United States
CATEGORIES:Golf Leagues
ORGANIZER;CN="Pappy Schenck":MAILTO:gwppappy@gmail.com
END:VEVENT
BEGIN:VEVENT
DTSTART;TZID=UTC:20260507T070000
DTEND;TZID=UTC:20260507T123000
DTSTAMP:20260423T065000
CREATED:20260410T204201Z
LAST-MODIFIED:20260410T204201Z
UID:10000383-1778137200-1778157000@www.gwphoa.org
SUMMARY:Thursday Ladies Leagues
DESCRIPTION:Golf Course will be closed to the public during this event
URL:https://www.gwphoa.org/event/thursday-ladies-leagues/2026-05-07/
LOCATION:Greenway Park Golf Course\, 110 Greenway Drive\, Broomfield\, CO\, 80020\, United States
CATEGORIES:Golf Leagues
ORGANIZER;CN="Pappy Schenck":MAILTO:gwppappy@gmail.com
END:VEVENT
BEGIN:VEVENT
DTSTART;TZID=UTC:20260512T070000
DTEND;TZID=UTC:20260512T123000
DTSTAMP:20260423T065000
CREATED:20260410T204632Z
LAST-MODIFIED:20260410T204632Z
UID:10000520-1778569200-1778589000@www.gwphoa.org
SUMMARY:Tuesday Senior Leagues
DESCRIPTION:Golf Course will be closed to the public during this event
URL:https://www.gwphoa.org/event/tuesday-senior-leagues-2/2026-05-12/
LOCATION:Greenway Park Golf Course\, 110 Greenway Drive\, Broomfield\, CO\, 80020\, United States
CATEGORIES:Golf Leagues
ORGANIZER;CN="Pappy Schenck":MAILTO:gwppappy@gmail.com
END:VEVENT
BEGIN:VEVENT
DTSTART;TZID=UTC:20260512T160000
DTEND;TZID=UTC:20260512T180000
DTSTAMP:20260423T065000
CREATED:20260410T203749Z
LAST-MODIFIED:20260410T203749Z
UID:10000081-1778601600-1778608800@www.gwphoa.org
SUMMARY:Spark Golf Leagues
DESCRIPTION:
URL:https://www.gwphoa.org/event/spark-golf-leagues/2026-05-12/
LOCATION:Greenway Park Golf Course\, 110 Greenway Drive\, Broomfield\, CO\, 80020\, United States
CATEGORIES:Golf Leagues
ORGANIZER;CN="Pappy Schenck":MAILTO:gwppappy@gmail.com
END:VEVENT
BEGIN:VEVENT
DTSTART;TZID=UTC:20260513T160000
DTEND;TZID=UTC:20260513T180000
DTSTAMP:20260423T065000
CREATED:20260410T205057Z
LAST-MODIFIED:20260410T205057Z
UID:10000678-1778688000-1778695200@www.gwphoa.org
SUMMARY:Ladies Links & Lagers Leagues
DESCRIPTION:The Course will be closed to the public during this event
URL:https://www.gwphoa.org/event/ladies-links-lagers-leagues/2026-05-13/
LOCATION:Greenway Park Golf Course\, 110 Greenway Drive\, Broomfield\, CO\, 80020\, United States
CATEGORIES:Golf Leagues
ORGANIZER;CN="Pappy Schenck":MAILTO:gwppappy@gmail.com
END:VEVENT
BEGIN:VEVENT
DTSTART;TZID=UTC:20260514T070000
DTEND;TZID=UTC:20260514T123000
DTSTAMP:20260423T065000
CREATED:20260410T204201Z
LAST-MODIFIED:20260410T204201Z
UID:10000384-1778742000-1778761800@www.gwphoa.org
SUMMARY:Thursday Ladies Leagues
DESCRIPTION:Golf Course will be closed to the public during this event
URL:https://www.gwphoa.org/event/thursday-ladies-leagues/2026-05-14/
LOCATION:Greenway Park Golf Course\, 110 Greenway Drive\, Broomfield\, CO\, 80020\, United States
CATEGORIES:Golf Leagues
ORGANIZER;CN="Pappy Schenck":MAILTO:gwppappy@gmail.com
END:VEVENT
BEGIN:VEVENT
DTSTART;TZID=UTC:20260519T070000
DTEND;TZID=UTC:20260519T123000
DTSTAMP:20260423T065000
CREATED:20260410T204632Z
LAST-MODIFIED:20260410T204632Z
UID:10000521-1779174000-1779193800@www.gwphoa.org
SUMMARY:Tuesday Senior Leagues
DESCRIPTION:Golf Course will be closed to the public during this event
URL:https://www.gwphoa.org/event/tuesday-senior-leagues-2/2026-05-19/
LOCATION:Greenway Park Golf Course\, 110 Greenway Drive\, Broomfield\, CO\, 80020\, United States
CATEGORIES:Golf Leagues
ORGANIZER;CN="Pappy Schenck":MAILTO:gwppappy@gmail.com
END:VEVENT
BEGIN:VEVENT
DTSTART;TZID=UTC:20260519T160000
DTEND;TZID=UTC:20260519T180000
DTSTAMP:20260423T065000
CREATED:20260410T203749Z
LAST-MODIFIED:20260410T203749Z
UID:10000082-1779206400-1779213600@www.gwphoa.org
SUMMARY:Spark Golf Leagues
DESCRIPTION:
URL:https://www.gwphoa.org/event/spark-golf-leagues/2026-05-19/
LOCATION:Greenway Park Golf Course\, 110 Greenway Drive\, Broomfield\, CO\, 80020\, United States
CATEGORIES:Golf Leagues
ORGANIZER;CN="Pappy Schenck":MAILTO:gwppappy@gmail.com
END:VEVENT
BEGIN:VEVENT
DTSTART;TZID=UTC:20260520T160000
DTEND;TZID=UTC:20260520T180000
DTSTAMP:20260423T065000
CREATED:20260410T205057Z
LAST-MODIFIED:20260410T205057Z
UID:10000679-1779292800-1779300000@www.gwphoa.org
SUMMARY:Ladies Links & Lagers Leagues
DESCRIPTION:The Course will be closed to the public during this event
URL:https://www.gwphoa.org/event/ladies-links-lagers-leagues/2026-05-20/
LOCATION:Greenway Park Golf Course\, 110 Greenway Drive\, Broomfield\, CO\, 80020\, United States
CATEGORIES:Golf Leagues
ORGANIZER;CN="Pappy Schenck":MAILTO:gwppappy@gmail.com
END:VEVENT
BEGIN:VEVENT
DTSTART;TZID=UTC:20260521T070000
DTEND;TZID=UTC:20260521T123000
DTSTAMP:20260423T065000
CREATED:20260410T204201Z
LAST-MODIFIED:20260410T204201Z
UID:10000385-1779346800-1779366600@www.gwphoa.org
SUMMARY:Thursday Ladies Leagues
DESCRIPTION:Golf Course will be closed to the public during this event
URL:https://www.gwphoa.org/event/thursday-ladies-leagues/2026-05-21/
LOCATION:Greenway Park Golf Course\, 110 Greenway Drive\, Broomfield\, CO\, 80020\, United States
CATEGORIES:Golf Leagues
ORGANIZER;CN="Pappy Schenck":MAILTO:gwppappy@gmail.com
END:VEVENT
BEGIN:VEVENT
DTSTART;TZID=UTC:20260526T070000
DTEND;TZID=UTC:20260526T123000
DTSTAMP:20260423T065000
CREATED:20260410T204632Z
LAST-MODIFIED:20260410T204632Z
UID:10000522-1779778800-1779798600@www.gwphoa.org
SUMMARY:Tuesday Senior Leagues
DESCRIPTION:Golf Course will be closed to the public during this event
URL:https://www.gwphoa.org/event/tuesday-senior-leagues-2/2026-05-26/
LOCATION:Greenway Park Golf Course\, 110 Greenway Drive\, Broomfield\, CO\, 80020\, United States
CATEGORIES:Golf Leagues
ORGANIZER;CN="Pappy Schenck":MAILTO:gwppappy@gmail.com
END:VEVENT
BEGIN:VEVENT
DTSTART;TZID=UTC:20260526T160000
DTEND;TZID=UTC:20260526T180000
DTSTAMP:20260423T065000
CREATED:20260410T203749Z
LAST-MODIFIED:20260410T203749Z
UID:10000083-1779811200-1779818400@www.gwphoa.org
SUMMARY:Spark Golf Leagues
DESCRIPTION:
URL:https://www.gwphoa.org/event/spark-golf-leagues/2026-05-26/
LOCATION:Greenway Park Golf Course\, 110 Greenway Drive\, Broomfield\, CO\, 80020\, United States
CATEGORIES:Golf Leagues
ORGANIZER;CN="Pappy Schenck":MAILTO:gwppappy@gmail.com
END:VEVENT
BEGIN:VEVENT
DTSTART;TZID=UTC:20260527T160000
DTEND;TZID=UTC:20260527T180000
DTSTAMP:20260423T065000
CREATED:20260410T205057Z
LAST-MODIFIED:20260410T205057Z
UID:10000680-1779897600-1779904800@www.gwphoa.org
SUMMARY:Ladies Links & Lagers Leagues
DESCRIPTION:The Course will be closed to the public during this event
URL:https://www.gwphoa.org/event/ladies-links-lagers-leagues/2026-05-27/
LOCATION:Greenway Park Golf Course\, 110 Greenway Drive\, Broomfield\, CO\, 80020\, United States
CATEGORIES:Golf Leagues
ORGANIZER;CN="Pappy Schenck":MAILTO:gwppappy@gmail.com
END:VEVENT
BEGIN:VEVENT
DTSTART;TZID=UTC:20260528T070000
DTEND;TZID=UTC:20260528T123000
DTSTAMP:20260423T065000
CREATED:20260410T204201Z
LAST-MODIFIED:20260410T204201Z
UID:10000386-1779951600-1779971400@www.gwphoa.org
SUMMARY:Thursday Ladies Leagues
DESCRIPTION:Golf Course will be closed to the public during this event
URL:https://www.gwphoa.org/event/thursday-ladies-leagues/2026-05-28/
LOCATION:Greenway Park Golf Course\, 110 Greenway Drive\, Broomfield\, CO\, 80020\, United States
CATEGORIES:Golf Leagues
ORGANIZER;CN="Pappy Schenck":MAILTO:gwppappy@gmail.com
END:VEVENT
BEGIN:VEVENT
DTSTART;TZID=UTC:20260602T070000
DTEND;TZID=UTC:20260602T123000
DTSTAMP:20260423T065000
CREATED:20260410T204632Z
LAST-MODIFIED:20260410T204632Z
UID:10000523-1780383600-1780403400@www.gwphoa.org
SUMMARY:Tuesday Senior Leagues
DESCRIPTION:Golf Course will be closed to the public during this event
URL:https://www.gwphoa.org/event/tuesday-senior-leagues-2/2026-06-02/
LOCATION:Greenway Park Golf Course\, 110 Greenway Drive\, Broomfield\, CO\, 80020\, United States
CATEGORIES:Golf Leagues
ORGANIZER;CN="Pappy Schenck":MAILTO:gwppappy@gmail.com
END:VEVENT
BEGIN:VEVENT
DTSTART;TZID=UTC:20260602T160000
DTEND;TZID=UTC:20260602T180000
DTSTAMP:20260423T065000
CREATED:20260410T203749Z
LAST-MODIFIED:20260410T203749Z
UID:10000084-1780416000-1780423200@www.gwphoa.org
SUMMARY:Spark Golf Leagues
DESCRIPTION:
URL:https://www.gwphoa.org/event/spark-golf-leagues/2026-06-02/
LOCATION:Greenway Park Golf Course\, 110 Greenway Drive\, Broomfield\, CO\, 80020\, United States
CATEGORIES:Golf Leagues
ORGANIZER;CN="Pappy Schenck":MAILTO:gwppappy@gmail.com
END:VEVENT
BEGIN:VEVENT
DTSTART;TZID=UTC:20260603T160000
DTEND;TZID=UTC:20260603T180000
DTSTAMP:20260423T065000
CREATED:20260410T205057Z
LAST-MODIFIED:20260410T205057Z
UID:10000681-1780502400-1780509600@www.gwphoa.org
SUMMARY:Ladies Links & Lagers Leagues
DESCRIPTION:The Course will be closed to the public during this event
URL:https://www.gwphoa.org/event/ladies-links-lagers-leagues/2026-06-03/
LOCATION:Greenway Park Golf Course\, 110 Greenway Drive\, Broomfield\, CO\, 80020\, United States
CATEGORIES:Golf Leagues
ORGANIZER;CN="Pappy Schenck":MAILTO:gwppappy@gmail.com
END:VEVENT
BEGIN:VEVENT
DTSTART;TZID=UTC:20260604T070000
DTEND;TZID=UTC:20260604T123000
DTSTAMP:20260423T065000
CREATED:20260410T204201Z
LAST-MODIFIED:20260410T204201Z
UID:10000387-1780556400-1780576200@www.gwphoa.org
SUMMARY:Thursday Ladies Leagues
DESCRIPTION:Golf Course will be closed to the public during this event
URL:https://www.gwphoa.org/event/thursday-ladies-leagues/2026-06-04/
LOCATION:Greenway Park Golf Course\, 110 Greenway Drive\, Broomfield\, CO\, 80020\, United States
CATEGORIES:Golf Leagues
ORGANIZER;CN="Pappy Schenck":MAILTO:gwppappy@gmail.com
END:VEVENT
BEGIN:VEVENT
DTSTART;TZID=UTC:20260609T070000
DTEND;TZID=UTC:20260609T123000
DTSTAMP:20260423T065000
CREATED:20260410T204632Z
LAST-MODIFIED:20260410T204632Z
UID:10000524-1780988400-1781008200@www.gwphoa.org
SUMMARY:Tuesday Senior Leagues
DESCRIPTION:Golf Course will be closed to the public during this event
URL:https://www.gwphoa.org/event/tuesday-senior-leagues-2/2026-06-09/
LOCATION:Greenway Park Golf Course\, 110 Greenway Drive\, Broomfield\, CO\, 80020\, United States
CATEGORIES:Golf Leagues
ORGANIZER;CN="Pappy Schenck":MAILTO:gwppappy@gmail.com
END:VEVENT
BEGIN:VEVENT
DTSTART;TZID=UTC:20260609T160000
DTEND;TZID=UTC:20260609T180000
DTSTAMP:20260423T065000
CREATED:20260410T203749Z
LAST-MODIFIED:20260410T203749Z
UID:10000085-1781020800-1781028000@www.gwphoa.org
SUMMARY:Spark Golf Leagues
DESCRIPTION:
URL:https://www.gwphoa.org/event/spark-golf-leagues/2026-06-09/
LOCATION:Greenway Park Golf Course\, 110 Greenway Drive\, Broomfield\, CO\, 80020\, United States
CATEGORIES:Golf Leagues
ORGANIZER;CN="Pappy Schenck":MAILTO:gwppappy@gmail.com
END:VEVENT
BEGIN:VEVENT
DTSTART;TZID=UTC:20260610T160000
DTEND;TZID=UTC:20260610T180000
DTSTAMP:20260423T065000
CREATED:20260410T205057Z
LAST-MODIFIED:20260410T205057Z
UID:10000682-1781107200-1781114400@www.gwphoa.org
SUMMARY:Ladies Links & Lagers Leagues
DESCRIPTION:The Course will be closed to the public during this event
URL:https://www.gwphoa.org/event/ladies-links-lagers-leagues/2026-06-10/
LOCATION:Greenway Park Golf Course\, 110 Greenway Drive\, Broomfield\, CO\, 80020\, United States
CATEGORIES:Golf Leagues
ORGANIZER;CN="Pappy Schenck":MAILTO:gwppappy@gmail.com
END:VEVENT
BEGIN:VEVENT
DTSTART;TZID=UTC:20260611T070000
DTEND;TZID=UTC:20260611T123000
DTSTAMP:20260423T065000
CREATED:20260410T204201Z
LAST-MODIFIED:20260410T204201Z
UID:10000388-1781161200-1781181000@www.gwphoa.org
SUMMARY:Thursday Ladies Leagues
DESCRIPTION:Golf Course will be closed to the public during this event
URL:https://www.gwphoa.org/event/thursday-ladies-leagues/2026-06-11/
LOCATION:Greenway Park Golf Course\, 110 Greenway Drive\, Broomfield\, CO\, 80020\, United States
CATEGORIES:Golf Leagues
ORGANIZER;CN="Pappy Schenck":MAILTO:gwppappy@gmail.com
END:VEVENT
BEGIN:VEVENT
DTSTART;TZID=UTC:20260616T070000
DTEND;TZID=UTC:20260616T123000
DTSTAMP:20260423T065000
CREATED:20260410T204632Z
LAST-MODIFIED:20260410T204632Z
UID:10000525-1781593200-1781613000@www.gwphoa.org
SUMMARY:Tuesday Senior Leagues
DESCRIPTION:Golf Course will be closed to the public during this event
URL:https://www.gwphoa.org/event/tuesday-senior-leagues-2/2026-06-16/
LOCATION:Greenway Park Golf Course\, 110 Greenway Drive\, Broomfield\, CO\, 80020\, United States
CATEGORIES:Golf Leagues
ORGANIZER;CN="Pappy Schenck":MAILTO:gwppappy@gmail.com
END:VEVENT
BEGIN:VEVENT
DTSTART;TZID=UTC:20260616T160000
DTEND;TZID=UTC:20260616T180000
DTSTAMP:20260423T065000
CREATED:20260410T203749Z
LAST-MODIFIED:20260410T203749Z
UID:10000086-1781625600-1781632800@www.gwphoa.org
SUMMARY:Spark Golf Leagues
DESCRIPTION:
URL:https://www.gwphoa.org/event/spark-golf-leagues/2026-06-16/
LOCATION:Greenway Park Golf Course\, 110 Greenway Drive\, Broomfield\, CO\, 80020\, United States
CATEGORIES:Golf Leagues
ORGANIZER;CN="Pappy Schenck":MAILTO:gwppappy@gmail.com
END:VEVENT
BEGIN:VEVENT
DTSTART;TZID=UTC:20260617T160000
DTEND;TZID=UTC:20260617T180000
DTSTAMP:20260423T065000
CREATED:20260410T205057Z
LAST-MODIFIED:20260410T205057Z
UID:10000683-1781712000-1781719200@www.gwphoa.org
SUMMARY:Ladies Links & Lagers Leagues
DESCRIPTION:The Course will be closed to the public during this event
URL:https://www.gwphoa.org/event/ladies-links-lagers-leagues/2026-06-17/
LOCATION:Greenway Park Golf Course\, 110 Greenway Drive\, Broomfield\, CO\, 80020\, United States
CATEGORIES:Golf Leagues
ORGANIZER;CN="Pappy Schenck":MAILTO:gwppappy@gmail.com
END:VEVENT
BEGIN:VEVENT
DTSTART;TZID=UTC:20260618T070000
DTEND;TZID=UTC:20260618T123000
DTSTAMP:20260423T065000
CREATED:20260410T204201Z
LAST-MODIFIED:20260410T204201Z
UID:10000389-1781766000-1781785800@www.gwphoa.org
SUMMARY:Thursday Ladies Leagues
DESCRIPTION:Golf Course will be closed to the public during this event
URL:https://www.gwphoa.org/event/thursday-ladies-leagues/2026-06-18/
LOCATION:Greenway Park Golf Course\, 110 Greenway Drive\, Broomfield\, CO\, 80020\, United States
CATEGORIES:Golf Leagues
ORGANIZER;CN="Pappy Schenck":MAILTO:gwppappy@gmail.com
END:VEVENT
END:VCALENDAR